BEGIN:VCALENDAR
VERSION:2.0
PRODID:-//The Coombe Keynes Trust - ECPv6.15.20//NONSGML v1.0//EN
CALSCALE:GREGORIAN
METHOD:PUBLISH
X-WR-CALNAME:The Coombe Keynes Trust
X-ORIGINAL-URL:https://www.coombekeynes.com
X-WR-CALDESC:Events for The Coombe Keynes Trust
REFRESH-INTERVAL;VALUE=DURATION:PT1H
X-Robots-Tag:noindex
X-PUBLISHED-TTL:PT1H
BEGIN:VTIMEZONE
TZID:Europe/London
BEGIN:DAYLIGHT
TZOFFSETFROM:+0000
TZOFFSETTO:+0100
TZNAME:BST
DTSTART:20220327T010000
END:DAYLIGHT
BEGIN:STANDARD
TZOFFSETFROM:+0100
TZOFFSETTO:+0000
TZNAME:GMT
DTSTART:20221030T010000
END:STANDARD
BEGIN:DAYLIGHT
TZOFFSETFROM:+0000
TZOFFSETTO:+0100
TZNAME:BST
DTSTART:20230326T010000
END:DAYLIGHT
BEGIN:STANDARD
TZOFFSETFROM:+0100
TZOFFSETTO:+0000
TZNAME:GMT
DTSTART:20231029T010000
END:STANDARD
BEGIN:DAYLIGHT
TZOFFSETFROM:+0000
TZOFFSETTO:+0100
TZNAME:BST
DTSTART:20240331T010000
END:DAYLIGHT
BEGIN:STANDARD
TZOFFSETFROM:+0100
TZOFFSETTO:+0000
TZNAME:GMT
DTSTART:20241027T010000
END:STANDARD
END:VTIMEZONE
BEGIN:VEVENT
DTSTART;TZID=Europe/London:20231103T190000
DTEND;TZID=Europe/London:20231103T190000
DTSTAMP:20260425T050308
CREATED:20230907T103938Z
LAST-MODIFIED:20231019T204814Z
UID:1764-1699038000-1699038000@www.coombekeynes.com
SUMMARY:Purbeck Film Festival - Mrs Harris Goes to Paris
DESCRIPTION:Coombe Keynes is delighted to be taking part in the Purbeck Film Festival. \nThere will be a showing of  Mrs. Harris Goes to Paris (PG) introduced by our very own Olivia Hetreed. \nTickets are £7.00: £5.50 (students and under 25s) and can be purchased from the Purbeck Film Festival website. \nA French-themed supper and drinks menu will be available in the church from 6pm and Olivia will begin her introduction at 7.30pm. \nThis event is sure to prove very popular\, so please book your tickets early to avoid disappointment. \n \n  \nMrs Harris Goes to Paris (PG) \nDirector: Antony Fabian\nStarring: Lesley Manville\, Jason Isaacs\, Rose Williams\nComedy | Drama | UK | 2022\n1 hr 55 mins \nA historical comedy-drama with a fabulous cast\, directed and produced by Anthony Fabian\, from a screenplay he co-wrote with Olivia Hetreed\, Carrol Cartwright and Keith Thompson. Based on the 1958 novel Mrs ‘Arris Goes to Paris by Paul Gallico\, it tells the story of a widowed9 cleaning lady in 1950s London who falls madly in love with a couture Dior dress and decides that she must have one of her own. After she works\, starves and gambles to raise the funds to pursue her dream\, she embarks on an adventure to Paris which will change not only her own outlook\, but the very future of the House of Dior.
URL:https://www.coombekeynes.com/event/purbeck-film-festival-mrs-harris-goes-to-paris/
END:VEVENT
BEGIN:VEVENT
DTSTART;TZID=Europe/London:20231125T193000
DTEND;TZID=Europe/London:20231125T193000
DTSTAMP:20260425T050308
CREATED:20230214T154340Z
LAST-MODIFIED:20231114T103547Z
UID:1306-1700940600-1700940600@www.coombekeynes.com
SUMMARY:Pub Night - CANCELLED
DESCRIPTION:Hi all\, we’ve decided to cancel the November Pub Night as it fell a little close to the Purbeck Film Festival showing this year. \nWe’ll be back with more Pub Nights in the new year. \n_____________________________________ \nfor more information\, please email events@coombekeynes.com
URL:https://www.coombekeynes.com/event/pub-night-2/
END:VEVENT
END:VCALENDAR