BEGIN:VCALENDAR
VERSION:2.0
PRODID:-//The Coombe Keynes Trust - ECPv6.15.20//NONSGML v1.0//EN
CALSCALE:GREGORIAN
METHOD:PUBLISH
X-WR-CALNAME:The Coombe Keynes Trust
X-ORIGINAL-URL:https://www.coombekeynes.com
X-WR-CALDESC:Events for The Coombe Keynes Trust
REFRESH-INTERVAL;VALUE=DURATION:PT1H
X-Robots-Tag:noindex
X-PUBLISHED-TTL:PT1H
BEGIN:VTIMEZONE
TZID:Europe/London
BEGIN:DAYLIGHT
TZOFFSETFROM:+0000
TZOFFSETTO:+0100
TZNAME:BST
DTSTART:20200329T010000
END:DAYLIGHT
BEGIN:STANDARD
TZOFFSETFROM:+0100
TZOFFSETTO:+0000
TZNAME:GMT
DTSTART:20201025T010000
END:STANDARD
BEGIN:DAYLIGHT
TZOFFSETFROM:+0000
TZOFFSETTO:+0100
TZNAME:BST
DTSTART:20210328T010000
END:DAYLIGHT
BEGIN:STANDARD
TZOFFSETFROM:+0100
TZOFFSETTO:+0000
TZNAME:GMT
DTSTART:20211031T010000
END:STANDARD
BEGIN:DAYLIGHT
TZOFFSETFROM:+0000
TZOFFSETTO:+0100
TZNAME:BST
DTSTART:20220327T010000
END:DAYLIGHT
BEGIN:STANDARD
TZOFFSETFROM:+0100
TZOFFSETTO:+0000
TZNAME:GMT
DTSTART:20221030T010000
END:STANDARD
BEGIN:DAYLIGHT
TZOFFSETFROM:+0000
TZOFFSETTO:+0100
TZNAME:BST
DTSTART:20230326T010000
END:DAYLIGHT
BEGIN:STANDARD
TZOFFSETFROM:+0100
TZOFFSETTO:+0000
TZNAME:GMT
DTSTART:20231029T010000
END:STANDARD
BEGIN:DAYLIGHT
TZOFFSETFROM:+0000
TZOFFSETTO:+0100
TZNAME:BST
DTSTART:20240331T010000
END:DAYLIGHT
BEGIN:STANDARD
TZOFFSETFROM:+0100
TZOFFSETTO:+0000
TZNAME:GMT
DTSTART:20241027T010000
END:STANDARD
BEGIN:DAYLIGHT
TZOFFSETFROM:+0000
TZOFFSETTO:+0100
TZNAME:BST
DTSTART:20250330T010000
END:DAYLIGHT
BEGIN:STANDARD
TZOFFSETFROM:+0100
TZOFFSETTO:+0000
TZNAME:GMT
DTSTART:20251026T010000
END:STANDARD
END:VTIMEZONE
BEGIN:VEVENT
DTSTART;TZID=Europe/London:20240623T110000
DTEND;TZID=Europe/London:20240623T110000
DTSTAMP:20260424T002307
CREATED:20240315T114440Z
LAST-MODIFIED:20240315T114757Z
UID:2762-1719140400-1719140400@www.coombekeynes.com
SUMMARY:Coombe Keynes 10k – 10am
DESCRIPTION:It’s back! Our annual 10k race. The usual help with marshalling and making cakes would be greatly appreciated – get in touch at hello@ck10k.com \n\n\n\nWe’ll email with more details nearer the time\, or visit the Events Page of our website for updates. \n\n\n\nAll the best\, \n\n\n\nThe Coombe Keynes Trust
URL:https://www.coombekeynes.com/event/coombe-keynes-10k-10am/
END:VEVENT
BEGIN:VEVENT
DTSTART;TZID=Europe/London:20240525T110000
DTEND;TZID=Europe/London:20240609T170000
DTSTAMP:20260424T002307
CREATED:20240514T065827Z
LAST-MODIFIED:20240514T070053Z
UID:2783-1716634800-1717952400@www.coombekeynes.com
SUMMARY:Purbeck Art Weeks - Free Exhibition
DESCRIPTION:Join us to see a selection of landscape works by Kimberley Day in the beautiful setting of Coombe Keynes Church. \n\n\n\nKim’s work is both a celebration of the Dorset landscape but also an exploration of the human condition – the constant search for meaning\, which seems almost always over the next horizon. Through her work she tries to capture that innate curiosity and desire to make clear what evades us. Her painting is both a literal interpretation of the Dorset landscape but also an expression of feeling through mark making\, composition and colour – as an attempt to capture both our internal and external landscapes. Ever changing\, shifting and surprising us. \n\n\n\nKim will be on hand in the church every day\, working on her paintings. \n\n\n\nTea and coffee will be available.
URL:https://www.coombekeynes.com/event/purbeck-art-weeks-exhibition/
ATTACH;FMTTYPE=image/jpeg:https://www.coombekeynes.com/wp-content/uploads/2024/05/WhatsApp-Image-2024-05-05-at-07.12.39_14a19cc3.jpg
END:VEVENT
BEGIN:VEVENT
DTSTART;TZID=Europe/London:20240524T023000
DTEND;TZID=Europe/London:20240524T210000
DTSTAMP:20260424T002307
CREATED:20240315T114358Z
LAST-MODIFIED:20240408T143607Z
UID:2760-1716517800-1716584400@www.coombekeynes.com
SUMMARY:Purbeck Art Weeks – Private View – 7pm
DESCRIPTION:We’re delighted to be taking part in Purbeck Art Weeks this year. Local artist Kimberley Day has been invited to put on an exhibition in the church. We’re inviting Trust members and friends to come to the church for drinks\, nibbles and a chance to see the exhibition and meet the artist the day before it opens to the general public.   \n\n\n\nThe exhibition will be on display for the following two weeks (25 May – 9 June). \n\n\n\nLearn more about Kim and her work here: https://purbeckartweeksfestival.co.uk/artist/kimberley-day/ \n\n\n\nEntry is free\, but please RSVP to events@coombekeynes.com if you’d like to attend.
URL:https://www.coombekeynes.com/event/purbeck-arts-week-private-view-7pm/
END:VEVENT
BEGIN:VEVENT
DTSTART;TZID=Europe/London:20240518T120000
DTEND;TZID=Europe/London:20240518T180000
DTSTAMP:20260424T002307
CREATED:20240422T074855Z
LAST-MODIFIED:20240422T075613Z
UID:2771-1716033600-1716055200@www.coombekeynes.com
SUMMARY:SPAB Dorset Regional Group Meeting
DESCRIPTION:Peter Brachi\, the current temporary Chairman of the group invites Members in Dorset (and surrounding areas) to Coombe Keynes for a special meeting\, which will be centred in the Church of the Holy rood.  \n\n\n\nThe day will include a talk about the church and the Trust and a walkabout in the village to learn its history and development and experience it’s character\, focusing on the way local geology has influenced the character of its historic buildings. \n\n\n\nProgramme:11am – Meet at Holy Rood Church for refreshments and discussion  12pm – Talk about the church and the establishment\, achievement and ambitions of the Coombe Keynes Trust  1pm – Buffet lunch 2pm – Introduction to the history of the village and local geology\, followed by a short walk to see the village and look at one or two of the older buildings   \n\n\n\nIt may be that these elements of the day will merge together to some extent; and it is imagined that the meeting will fizzle out naturally during the afternoon. \n\n\n\nIf you would like to attend for the whole day\, please reserve your spot through the SPAB website (see below). Alternatively\, trust members and friends are encouraged to come along at 2pm and enjoy the walk for free.
URL:https://www.coombekeynes.com/event/spab-dorset-regional-group-meeting/
END:VEVENT
BEGIN:VEVENT
DTSTART;TZID=Europe/London:20240420T193000
DTEND;TZID=Europe/London:20240420T220000
DTSTAMP:20260424T002307
CREATED:20240315T104952Z
LAST-MODIFIED:20240315T104953Z
UID:2758-1713641400-1713650400@www.coombekeynes.com
SUMMARY:AGM & Pub Night with chilli dinner – 6.30pm
DESCRIPTION:Join us from 6.30pm for the Trust’s Annual General Meeting followed by a pub night & chilli dinner from 7.30pm (earlier if we race through the agenda). \n\n\n\nContributions of food would be very welcome\, please get in touch if you’d be happy to contribute a dish. BYOB.
URL:https://www.coombekeynes.com/event/agm-pub-night-with-chilli-dinner-6-30pm/
LOCATION:The Coombe Keynes Church\, Church of the Holy Rood\, Coombe Keynes\, Dorset\, BH20 5PS\, United Kingdom
END:VEVENT
BEGIN:VEVENT
DTSTART;TZID=Europe/London:20240127T190000
DTEND;TZID=Europe/London:20240127T233000
DTSTAMP:20260424T002307
CREATED:20240102T151059Z
LAST-MODIFIED:20240119T084108Z
UID:2635-1706382000-1706398200@www.coombekeynes.com
SUMMARY:Cancelled! Burns Night Ceilidh
DESCRIPTION:** We’re very sorry to say we’ve had to cancel this event due to a lack of availability of villagers! We’d still love to organise a Barn Dance or similar\, but we’ll try again a different time of year*** \nJoin us for night of music and dancing\, with bagpipes and a haggis supper followed by toe-tapping ceilidh music from Arish Mel Ceilidh Band. \nEntry includes dinner\, dancing and a dram of whisky for toasts. There will be a pay bar available on the night (card payments preferred). \nWe’re delighted to be welcoming a live band to the church\, so we’d encourage you to bring friends and relatives to swell the ranks and make it an evening to remember. \nYou can purchase you ticket here but if you have any problems or questions\, please email events@coombekeynes.com . 
URL:https://www.coombekeynes.com/event/burns-night-ceilidh/
ATTACH;FMTTYPE=image/png:https://www.coombekeynes.com/wp-content/uploads/2024/01/Ceilidh-3.png
END:VEVENT
BEGIN:VEVENT
DTSTART;TZID=Europe/London:20231224T180000
DTEND;TZID=Europe/London:20231224T180000
DTSTAMP:20260424T002307
CREATED:20230214T160234Z
LAST-MODIFIED:20231224T142426Z
UID:1324-1703440800-1703440800@www.coombekeynes.com
SUMMARY:Carols Around the Tree** now in the Church
DESCRIPTION:***Update! Carols will now be held in the Church from 6pm*** \nMeet in the church for mulled wine and carols by candlelight. \n  \n_________________________________________________ \nFor more information\, please contact events@coombekeynes.com
URL:https://www.coombekeynes.com/event/carols-around-the-tree/
END:VEVENT
BEGIN:VEVENT
DTSTART;TZID=Europe/London:20231125T193000
DTEND;TZID=Europe/London:20231125T193000
DTSTAMP:20260424T002307
CREATED:20230214T154340Z
LAST-MODIFIED:20231114T103547Z
UID:1306-1700940600-1700940600@www.coombekeynes.com
SUMMARY:Pub Night - CANCELLED
DESCRIPTION:Hi all\, we’ve decided to cancel the November Pub Night as it fell a little close to the Purbeck Film Festival showing this year. \nWe’ll be back with more Pub Nights in the new year. \n_____________________________________ \nfor more information\, please email events@coombekeynes.com
URL:https://www.coombekeynes.com/event/pub-night-2/
END:VEVENT
BEGIN:VEVENT
DTSTART;TZID=Europe/London:20231103T190000
DTEND;TZID=Europe/London:20231103T190000
DTSTAMP:20260424T002307
CREATED:20230907T103938Z
LAST-MODIFIED:20231019T204814Z
UID:1764-1699038000-1699038000@www.coombekeynes.com
SUMMARY:Purbeck Film Festival - Mrs Harris Goes to Paris
DESCRIPTION:Coombe Keynes is delighted to be taking part in the Purbeck Film Festival. \nThere will be a showing of  Mrs. Harris Goes to Paris (PG) introduced by our very own Olivia Hetreed. \nTickets are £7.00: £5.50 (students and under 25s) and can be purchased from the Purbeck Film Festival website. \nA French-themed supper and drinks menu will be available in the church from 6pm and Olivia will begin her introduction at 7.30pm. \nThis event is sure to prove very popular\, so please book your tickets early to avoid disappointment. \n \n  \nMrs Harris Goes to Paris (PG) \nDirector: Antony Fabian\nStarring: Lesley Manville\, Jason Isaacs\, Rose Williams\nComedy | Drama | UK | 2022\n1 hr 55 mins \nA historical comedy-drama with a fabulous cast\, directed and produced by Anthony Fabian\, from a screenplay he co-wrote with Olivia Hetreed\, Carrol Cartwright and Keith Thompson. Based on the 1958 novel Mrs ‘Arris Goes to Paris by Paul Gallico\, it tells the story of a widowed9 cleaning lady in 1950s London who falls madly in love with a couture Dior dress and decides that she must have one of her own. After she works\, starves and gambles to raise the funds to pursue her dream\, she embarks on an adventure to Paris which will change not only her own outlook\, but the very future of the House of Dior.
URL:https://www.coombekeynes.com/event/purbeck-film-festival-mrs-harris-goes-to-paris/
END:VEVENT
BEGIN:VEVENT
DTSTART;TZID=Europe/London:20230923T193000
DTEND;TZID=Europe/London:20230924T003000
DTSTAMP:20260424T002307
CREATED:20230214T155609Z
LAST-MODIFIED:20230907T101822Z
UID:1322-1695497400-1695515400@www.coombekeynes.com
SUMMARY:Harvest Supper & History Night
DESCRIPTION:Please join us for a Harvest Supper & History Night on Saturday 23rd September from 6.30pm. \nWe’ll be launching the “Coombe Keynes History Project” and to celebrate\, we’ll start the evening with a brief talk from Peter Brachi\, “Where did they go? Following the village population pendulum over the last two hundred years”. \nAfter the talk we’ll be serving up a special ‘Ten Mile Menu’ featuring local & seasonal produce sourced from within 10 miles of Coombe Keynes. \nThere will also be a chance to peruse a preliminary display of historical maps\, news articles and photos and share your thoughts on the creation of a new history display for the church. \nWe’re also asking everyone to contribute an item to display for one night only in our “Pop Up Museum of the People”. Please bring an item (or items) that represents some aspect of your life in Coombe Keynes today or in the past; it could be a clay pipe dug up in the garden\, or an old wi-Fi booster to get signal through thick cottage walls\, or a photo of your house when you first moved in. Feel free to be as creative or abstract as you like: it just has to mean something to you! \nWe’re not asking for payment up front but would appreciate donations after the event – we’re recommending £12pp (please adjust as you see fit for concessions). \nWe look forward to seeing you there – please RSVP if you can come. \nBYOB! \n_________________________________________________ \nFor more information\, please contact events@coombekeynes.com
URL:https://www.coombekeynes.com/event/harvest-supper-2/
END:VEVENT
BEGIN:VEVENT
DTSTART;TZID=Europe/London:20230812T160000
DTEND;TZID=Europe/London:20230812T190000
DTSTAMP:20260424T002307
CREATED:20230214T155451Z
LAST-MODIFIED:20230710T163039Z
UID:1320-1691856000-1691866800@www.coombekeynes.com
SUMMARY:Summer BBQ
DESCRIPTION:Dear Residents and Friends\, \nA quick reminder about the Coombe Keynes Annual Summer BBQ. \nSaturday 12th August – 3pm. \nWe are working on the premise that we will have a glorious summers day with sun and warmth a plenty! With this in mind\, the party will take place on the lawn in front of Highfield and the village green. Should the weather fail us we will relocate to the church\, but let’s be optimistic!! \nFor safety reasons the BBQs will be situated in the yard outside West Coombe Farm House and guests are requested to bring whatever they would like to cook. We will have one vegetarian BBQ and one for meat. \nNearer the time there will be a shout out for salad/sides/desert contributions. Please also bring a bottle of your chosen tipple to help the afternoon go with a swing. \nFriends\, family and acquaintances all very welcome! \nLooking forward to seeing lots of you then. \nAll the best\, \nNicola\, \non behalf of the Coombe Keynes Trust \n____________________________________ \nfor more information\, please email events@coombekeynes.com
URL:https://www.coombekeynes.com/event/summer-bbq/
END:VEVENT
BEGIN:VEVENT
DTSTART;TZID=Europe/London:20230618T110000
DTEND;TZID=Europe/London:20230618T180000
DTSTAMP:20260424T002307
CREATED:20230214T160444Z
LAST-MODIFIED:20230214T160550Z
UID:1316-1687086000-1687111200@www.coombekeynes.com
SUMMARY:Coombe Keynes 10k Race
DESCRIPTION:For more details\, please visit our dedicated website: \nwww.ck10k.com \nVolunteers are invited for a drink after the race. \n_____________________________________ \nfor more information\, please email events@coombekeynes.com
URL:https://www.coombekeynes.com/event/coombe-keynes-10k-race/
END:VEVENT
BEGIN:VEVENT
DTSTART;TZID=Europe/London:20230506T200000
DTEND;TZID=Europe/London:20230507T003000
DTSTAMP:20260424T002307
CREATED:20230214T153914Z
LAST-MODIFIED:20230425T080459Z
UID:1304-1683403200-1683419400@www.coombekeynes.com
SUMMARY:Pub Night - Coronation Curry Night Special
DESCRIPTION:The Royal Rood is back in business! \nAfter the success of the Jubilee Pub Night last year\, we’re hosting a series of Pub Nights across the year. \nThey’re casual\, drop-in evenings where you can enjoy a reasonably priced glass of wine or a pint of beer and packet of crips with the neighbours. We’ll also have cards\, darts and other pub games. \nPub Nights this year are: \nSaturday March 25th  from 7.30pm \nSaturday May 6th – Coronation Pub Night and Curry Supper from 7pm\n(If you’d like to bring a contribution to our curry feast \, that would be much appreciated. Please drop us a line at events@coombekeynes.com or sign up on our google sheet to see what everyone’s bringing.) \nNovember 25th from 7.30pm \nThere’s no entry fee and no need to RSVP\, but a small contribution towards the heating bill is always appreciated. We  can take donations here or on our card machine on the night. \n_____________________________________ \nfor more information\, please email events@coombekeynes.com
URL:https://www.coombekeynes.com/event/pub-night-coronation-curry-night-special/
END:VEVENT
BEGIN:VEVENT
DTSTART;TZID=Europe/London:20230422T110000
DTEND;TZID=Europe/London:20230422T180000
DTSTAMP:20260424T002307
CREATED:20230214T154923Z
LAST-MODIFIED:20230214T160721Z
UID:1313-1682161200-1682186400@www.coombekeynes.com
SUMMARY:Annual General Meeting
DESCRIPTION:All Coombe Keynes Trust members are invited to join us from 10am for our Annual General Meeting. \nFind out what the Trust has been up to over the previous 12 months and have your say on our plans for the future. \nTea\, coffee and cake will be served. \nNot yet a member? Please sign up and have your say! \n  \n_____________________________________ \nfor more information\, please email events@coombekeynes.com
URL:https://www.coombekeynes.com/event/annual-general-meeting/
END:VEVENT
BEGIN:VEVENT
DTSTART;TZID=Europe/London:20230325T193000
DTEND;TZID=Europe/London:20230325T233000
DTSTAMP:20260424T002307
CREATED:20230214T153819Z
LAST-MODIFIED:20230314T161016Z
UID:1300-1679772600-1679787000@www.coombekeynes.com
SUMMARY:Pub Night
DESCRIPTION:The Royal Rood is back in business! \nAfter the success of the Jubilee Pub Night last year\, we’re hosting a series of Pub Nights across the year. \nThey’re casual\, drop-in evenings where you can enjoy a glass of wine or a pint of beer and packet of crisps with the neighbours. We’ll also have cards\, darts and other pub games. \nIt’s completely free\, but please bring your own drinks and we’ll provide pub games and good company. \nPub Nights this year are: \nSaturday March 25th  from 7.30pm \nSaturday May 6th – Coronation Pub Night and Curry Supper from 7pm\n(please bring a contribution to our curry feast) \nNovember 25th from 7.30pm \nThere’s no entry fee and no need to RSVP\, but a small contribution towards the heating bill is always appreciated. We  can take donations here or on our card machine on the night. \n________________________________ \nfor more information\, please email events@coombekeynes.com
URL:https://www.coombekeynes.com/event/pub-night/
END:VEVENT
BEGIN:VEVENT
DTSTART;TZID=Europe/London:20230128T190000
DTEND;TZID=Europe/London:20230128T233000
DTSTAMP:20260424T002307
CREATED:20230104T154415Z
LAST-MODIFIED:20230104T180112Z
UID:1243-1674932400-1674948600@www.coombekeynes.com
SUMMARY:Burns Night Supper 2023
DESCRIPTION:The Coombe Keynes Trust will be hosting a traditional Burns Night Supper from 7pm in the church. \nThe ticket price includes a three course dinner and a dram of whisky. \nTickets: Adults £10 and children £5 \nPlease note\, in future we will be offering a discount to the Coombe Keynes Trust members. This is the last event that will be the same price for Trust Members and Non Members. Please head over to our membership page to learn more.  \nTo reserve your place please email events@coombekeynes.com or phone 07727 123 157. \nWhen booking\, please do let us know of any dietary requirements. \nTo supplement your dram of whisky\, we recommend you bring along a drink of your choice to complement your haggis\, neeps and tatties. \nContributions of a dessert\, a poem or a song (or all three!) are most welcome\, please let us know if you’d like to help.
URL:https://www.coombekeynes.com/event/burns-night-supper-2023/
END:VEVENT
BEGIN:VEVENT
DTSTART;TZID=Europe/London:20221028T190000
DTEND;TZID=Europe/London:20221028T223000
DTSTAMP:20260424T002307
CREATED:20221004T115720Z
LAST-MODIFIED:20221012T130908Z
UID:1195-1666983600-1666996200@www.coombekeynes.com
SUMMARY:Purbeck Film Festival - Film Night
DESCRIPTION:Book now for Film Night at Coombe Keynes Church! \nThe Coombe Keynes Trust is taking part in the Purbeck Film Festival this year\, with a showing of ‘Summerland’ (rated PG) on Friday 28th October. \nThe film is set during World War II and is about an Englishwoman who opens her heart to an evacuee after initially resolving to be rid of him. It’s a moving journey of womanhood\, love and friendship featuring Gemma Arterton\, Gugu Mbatha-Raw\, Penelope Wilton and Tom Courtney. \nThe film kicks off at 7.30pm – but we’ll be serving food and drinks beforehand. \nPlease do join us from 6pm to enjoy a drink from Barman Jan and a bowl of chilli with nachos and guacamole. Freshly made popcorn will be available for the film. \nWe look forward to seeing you there! \nBookings should be made through the Purbeck Film Festival website: \nhttps://www.purbeckfilm.com/product/summerland-pg/
URL:https://www.coombekeynes.com/event/purbeck-film-festival-film-night/
END:VEVENT
BEGIN:VEVENT
DTSTART;TZID=Europe/London:20220924T200000
DTEND;TZID=Europe/London:20220924T200000
DTSTAMP:20260424T002307
CREATED:20220323T101236Z
LAST-MODIFIED:20220907T162557Z
UID:1075-1664049600-1664049600@www.coombekeynes.com
SUMMARY:Harvest Festival
DESCRIPTION:This year’s Harvest Supper is on Saturday Sept 24th.\n \nWe’re laying on a Ploughman’s supper with all the usual fare along with some hot pasties and a glass of Robin’s cider to help wash it down.\n \nTo accompany the Ploughman’s\, we’re asking for contributions to a ‘Community Cheeseboard’. If you’d like to take part\, please bring along a small wedge of your favourite cheese and hopefully that will result in a delicious selection for the whole group.\n \nIf you have any other home produce you’d like to contribute – eg tomatoes\, homemade chutneys\, blackberry and apple crumbles – that would be most welcome\, please do get in touch.\n \nSuggested donation £8 per person.\n \nReally hope you can all make it – please RSVP via email to events@coombekeynes.com.
URL:https://www.coombekeynes.com/event/harvest-festival/
END:VEVENT
BEGIN:VEVENT
DTSTART;TZID=Europe/London:20220813T153000
DTEND;TZID=Europe/London:20220813T190000
DTSTAMP:20260424T002307
CREATED:20220406T133012Z
LAST-MODIFIED:20220808T150236Z
UID:1149-1660404600-1660417200@www.coombekeynes.com
SUMMARY:Summer Picnic
DESCRIPTION:Starting from 2.30pm will be a village picnic – two barbecues will be provided (one for meat and one for vegan). All you need to bring is yourselves and a picnic (or dish to share) and anything you would like to cook. Following the picnic will be a fun filled skittles competition for all the family.
URL:https://www.coombekeynes.com/event/summer-picnic-and-skittles-tournament/
END:VEVENT
BEGIN:VEVENT
DTSTART;TZID=Europe/London:20220619T110000
DTEND;TZID=Europe/London:20220619T130000
DTSTAMP:20260424T002307
CREATED:20220323T100045Z
LAST-MODIFIED:20230214T155359Z
UID:1072-1655636400-1655643600@www.coombekeynes.com
SUMMARY:Coombe Keynes 10k Race
DESCRIPTION:For more details\, please visit our dedicated website: \nwww.ck10k.com \nVolunteers are invited for a drink after the race. \n 
URL:https://www.coombekeynes.com/event/coombe-keynes-10k/
CATEGORIES:10k Race
END:VEVENT
BEGIN:VEVENT
DTSTART;TZID=Europe/London:20220602T203000
DTEND;TZID=Europe/London:20220603T003000
DTSTAMP:20260424T002307
CREATED:20220323T095714Z
LAST-MODIFIED:20220428T055225Z
UID:1069-1654201800-1654216200@www.coombekeynes.com
SUMMARY:Great British Pub Night and Jubilee Beacon Lighting
DESCRIPTION:  \n \nKick off the Jubilee Bank Holiday weekend in style! \nFrom 7.00pm\, the Church will be hosting a ‘Great British Pub Night’. Come along to enjoy traditional bar snacks and pub games including skittles\, darts and dominos. Beer\, wine\, cider and soft drinks will be available at our bar. \nThen at 9.30pm please join us for the lighting of the Jubilee Beacon in the field by the Church. This is part of the worldwide event where hundreds of community beacons will be lit to mark the Queen’s Platinum Jubilee. \nThis is a free event\, but donations will be very welcome on the night. \nFor any enquiries\, please contact events@coombekeynes.com \n \n 
URL:https://www.coombekeynes.com/event/great-british-pub-night-and-jubilee-beacon-lighting/
END:VEVENT
BEGIN:VEVENT
DTSTART;TZID=Europe/London:20220528T110000
DTEND;TZID=Europe/London:20220528T120000
DTSTAMP:20260424T002307
CREATED:20220226T122426Z
LAST-MODIFIED:20220426T081650Z
UID:1046-1653735600-1653739200@www.coombekeynes.com
SUMMARY:Coombe Keynes Trust AGM 2022
DESCRIPTION:Join us for the Trust Annual General Meeting – open to all members. Find out what the Trust has been up to over the previous 12 months and have your say on our plans for the future. \nTea and cake will be served. \nTime TBC. \nAny enquiries\, please contact events@coombekeynes.com
URL:https://www.coombekeynes.com/event/ckt-agm-2022/
LOCATION:The Coombe Keynes Church\, Church of the Holy Rood\, Coombe Keynes\, Dorset\, BH20 5PS\, United Kingdom
CATEGORIES:AGM
END:VEVENT
BEGIN:VEVENT
DTSTART;TZID=Europe/London:20210925T200000
DTEND;TZID=Europe/London:20210925T200000
DTSTAMP:20260424T002307
CREATED:20210318T094143Z
LAST-MODIFIED:20210318T094143Z
UID:1014-1632600000-1632600000@www.coombekeynes.com
SUMMARY:Harvest Supper
DESCRIPTION:Harvest Supper 25th September 2021 – our celebrations of the season’s’ bounty
URL:https://www.coombekeynes.com/event/harvest-supper/
END:VEVENT
BEGIN:VEVENT
DTSTART;TZID=Europe/London:20210626T090000
DTEND;TZID=Europe/London:20210626T180000
DTSTAMP:20260424T002307
CREATED:20210318T093222Z
LAST-MODIFIED:20210318T093222Z
UID:1012-1624698000-1624730400@www.coombekeynes.com
SUMMARY:Post Lockdown party
DESCRIPTION:TBC 2021 – A residents party to celebrate our community. Planning an outdoor “Garden Party”\, low key and an opportunity to socialise.
URL:https://www.coombekeynes.com/event/post-lockdown-party/
END:VEVENT
BEGIN:VEVENT
DTSTART;TZID=Europe/London:20210621T110000
DTEND;TZID=Europe/London:20210621T153000
DTSTAMP:20260424T002307
CREATED:20210318T093108Z
LAST-MODIFIED:20210318T093338Z
UID:1010-1624273200-1624289400@www.coombekeynes.com
SUMMARY:CK10K
DESCRIPTION:June 20th 2021 Our Annual Race back on after a year off.
URL:https://www.coombekeynes.com/event/ck10k/
END:VEVENT
BEGIN:VEVENT
DTSTART;TZID=Europe/London:20210507T200000
DTEND;TZID=Europe/London:20210507T220000
DTSTAMP:20260424T002307
CREATED:20210318T092923Z
LAST-MODIFIED:20210318T093301Z
UID:1008-1620417600-1620424800@www.coombekeynes.com
SUMMARY:AGM followed by Quiz
DESCRIPTION:May 7th 2021 – Trust AGM with members only voting followed by an open Quiz. No Charge.
URL:https://www.coombekeynes.com/event/agm-followed-by-quiz/
LOCATION:Zoom Call
END:VEVENT
BEGIN:VEVENT
DTSTART;TZID=Europe/London:20210409T200000
DTEND;TZID=Europe/London:20210409T220000
DTSTAMP:20260424T002307
CREATED:20210317T184121Z
LAST-MODIFIED:20210318T092732Z
UID:1003-1617998400-1618005600@www.coombekeynes.com
SUMMARY:Lottery talk - Why Societies Love Lots (and always have done)
DESCRIPTION:Friday April 9th\, 19:30 (call opens 19:00). No charge.Robin Bowler\, the Trust’s Vice Chairman\, is a lotteries specialist and presents a lively walk through what Lotteries have meant for people over the ages\, and the role they play in today’s society. Questions posed and tackled will include topics such as: What makes Lotteries so popular?; How do they stay relevant over time?; and Are Lotteries just another form of gambling? Prepare to be surprised\, challenged\, and to have a bit of fun along the way!
URL:https://www.coombekeynes.com/event/lottery-talk/
LOCATION:Zoom Call
END:VEVENT
BEGIN:VEVENT
DTSTART;TZID=Europe/London:20210312T193000
DTEND;TZID=Europe/London:20210312T210000
DTSTAMP:20260424T002307
CREATED:20210317T183920Z
LAST-MODIFIED:20210318T092757Z
UID:999-1615577400-1615582800@www.coombekeynes.com
SUMMARY:Under the Swanage Pier
DESCRIPTION:Wildlife Under Swanage Pier – Friday March 12th\, 19:30 (call opens 19:00). No charge but £5 donation to Swanage Pier Trust / CKT encouraged.Swanage Pier creates a unique set of conditions which allow a huge diversity of wildlife to live underneath it. Pier volunteer and local diver\, Nick Reed\, will take us on a journey through this unseen world and will give us the background to some of the amazing creatures that featured in the successful online exhibition of underwater images by Alison and Paul Pettit.
URL:https://www.coombekeynes.com/event/under-the-swanage-pier/
LOCATION:Zoom Call
END:VEVENT
END:VCALENDAR