BEGIN:VCALENDAR
VERSION:2.0
PRODID:-//The Coombe Keynes Trust - ECPv6.15.20//NONSGML v1.0//EN
CALSCALE:GREGORIAN
METHOD:PUBLISH
X-ORIGINAL-URL:https://www.coombekeynes.com
X-WR-CALDESC:Events for The Coombe Keynes Trust
REFRESH-INTERVAL;VALUE=DURATION:PT1H
X-Robots-Tag:noindex
X-PUBLISHED-TTL:PT1H
BEGIN:VTIMEZONE
TZID:Europe/London
BEGIN:DAYLIGHT
TZOFFSETFROM:+0000
TZOFFSETTO:+0100
TZNAME:BST
DTSTART:20250330T010000
END:DAYLIGHT
BEGIN:STANDARD
TZOFFSETFROM:+0100
TZOFFSETTO:+0000
TZNAME:GMT
DTSTART:20251026T010000
END:STANDARD
BEGIN:DAYLIGHT
TZOFFSETFROM:+0000
TZOFFSETTO:+0100
TZNAME:BST
DTSTART:20260329T010000
END:DAYLIGHT
BEGIN:STANDARD
TZOFFSETFROM:+0100
TZOFFSETTO:+0000
TZNAME:GMT
DTSTART:20261025T010000
END:STANDARD
BEGIN:DAYLIGHT
TZOFFSETFROM:+0000
TZOFFSETTO:+0100
TZNAME:BST
DTSTART:20270328T010000
END:DAYLIGHT
BEGIN:STANDARD
TZOFFSETFROM:+0100
TZOFFSETTO:+0000
TZNAME:GMT
DTSTART:20271031T010000
END:STANDARD
END:VTIMEZONE
BEGIN:VEVENT
DTSTART;TZID=Europe/London:20260509T170000
DTEND;TZID=Europe/London:20260509T170000
DTSTAMP:20260423T123315
CREATED:20260221T162750Z
LAST-MODIFIED:20260221T162752Z
UID:3200-1778346000-1778346000@www.coombekeynes.com
SUMMARY:AGM & Pub Night
DESCRIPTION:We invite all Coombe Keynes Trust members to our Annual General Meeting and stay on afterwards for a BYOB Pub Night.
URL:https://www.coombekeynes.com/event/agm-pub-night/
END:VEVENT
BEGIN:VEVENT
DTSTART;TZID=Europe/London:20260530T100000
DTEND;TZID=Europe/London:20260607T160000
DTSTAMP:20260423T123315
CREATED:20260105T164517Z
LAST-MODIFIED:20260105T165403Z
UID:3161-1780135200-1780848000@www.coombekeynes.com
SUMMARY:Spring Exhibition - PAW & DAW
DESCRIPTION:Local artists Kimberly Day\, Alix Harwood\, Sarah Mazdon\, Claire Tozer will be back with a mixed-media display of their artwork in the church.  \n\n\n\nWatch this space for details of our Private View Event. \n\n\n\nThey’ll be exhibiting as part of Purbeck Art Weeks and Dorset Art Weeks.
URL:https://www.coombekeynes.com/event/coombe-keynes-spring-exhibition-paw-daw/
END:VEVENT
BEGIN:VEVENT
DTSTART;TZID=Europe/London:20260614T100000
DTEND;TZID=Europe/London:20260614T140000
DTSTAMP:20260423T123315
CREATED:20260105T164945Z
LAST-MODIFIED:20260105T165301Z
UID:3164-1781431200-1781445600@www.coombekeynes.com
SUMMARY:Coombe Keynes 10k Race
DESCRIPTION:Join us for the annual 10k race through the village and stay for a mini-fete in the Vicarage gardens afterwards. \n\n\n\nEnter now – more info at https://ck10k.com/
URL:https://www.coombekeynes.com/event/coombe-keynes-10k-race-2/
END:VEVENT
END:VCALENDAR