BEGIN:VCALENDAR
VERSION:2.0
PRODID:-//The Coombe Keynes Trust - ECPv6.15.20//NONSGML v1.0//EN
CALSCALE:GREGORIAN
METHOD:PUBLISH
X-WR-CALNAME:The Coombe Keynes Trust
X-ORIGINAL-URL:https://www.coombekeynes.com
X-WR-CALDESC:Events for The Coombe Keynes Trust
REFRESH-INTERVAL;VALUE=DURATION:PT1H
X-Robots-Tag:noindex
X-PUBLISHED-TTL:PT1H
BEGIN:VTIMEZONE
TZID:Europe/London
BEGIN:DAYLIGHT
TZOFFSETFROM:+0000
TZOFFSETTO:+0100
TZNAME:BST
DTSTART:20230326T010000
END:DAYLIGHT
BEGIN:STANDARD
TZOFFSETFROM:+0100
TZOFFSETTO:+0000
TZNAME:GMT
DTSTART:20231029T010000
END:STANDARD
BEGIN:DAYLIGHT
TZOFFSETFROM:+0000
TZOFFSETTO:+0100
TZNAME:BST
DTSTART:20240331T010000
END:DAYLIGHT
BEGIN:STANDARD
TZOFFSETFROM:+0100
TZOFFSETTO:+0000
TZNAME:GMT
DTSTART:20241027T010000
END:STANDARD
BEGIN:DAYLIGHT
TZOFFSETFROM:+0000
TZOFFSETTO:+0100
TZNAME:BST
DTSTART:20250330T010000
END:DAYLIGHT
BEGIN:STANDARD
TZOFFSETFROM:+0100
TZOFFSETTO:+0000
TZNAME:GMT
DTSTART:20251026T010000
END:STANDARD
BEGIN:DAYLIGHT
TZOFFSETFROM:+0000
TZOFFSETTO:+0100
TZNAME:BST
DTSTART:20260329T010000
END:DAYLIGHT
BEGIN:STANDARD
TZOFFSETFROM:+0100
TZOFFSETTO:+0000
TZNAME:GMT
DTSTART:20261025T010000
END:STANDARD
BEGIN:DAYLIGHT
TZOFFSETFROM:+0000
TZOFFSETTO:+0100
TZNAME:BST
DTSTART:20270328T010000
END:DAYLIGHT
BEGIN:STANDARD
TZOFFSETFROM:+0100
TZOFFSETTO:+0000
TZNAME:GMT
DTSTART:20271031T010000
END:STANDARD
END:VTIMEZONE
BEGIN:VEVENT
DTSTART;TZID=Europe/London:20240420T193000
DTEND;TZID=Europe/London:20240420T220000
DTSTAMP:20260425T032811
CREATED:20240315T104952Z
LAST-MODIFIED:20240315T104953Z
UID:2758-1713641400-1713650400@www.coombekeynes.com
SUMMARY:AGM & Pub Night with chilli dinner – 6.30pm
DESCRIPTION:Join us from 6.30pm for the Trust’s Annual General Meeting followed by a pub night & chilli dinner from 7.30pm (earlier if we race through the agenda). \n\n\n\nContributions of food would be very welcome\, please get in touch if you’d be happy to contribute a dish. BYOB.
URL:https://www.coombekeynes.com/event/agm-pub-night-with-chilli-dinner-6-30pm/
LOCATION:The Coombe Keynes Church\, Church of the Holy Rood\, Coombe Keynes\, Dorset\, BH20 5PS\, United Kingdom
END:VEVENT
BEGIN:VEVENT
DTSTART;TZID=Europe/London:20240518T120000
DTEND;TZID=Europe/London:20240518T180000
DTSTAMP:20260425T032811
CREATED:20240422T074855Z
LAST-MODIFIED:20240422T075613Z
UID:2771-1716033600-1716055200@www.coombekeynes.com
SUMMARY:SPAB Dorset Regional Group Meeting
DESCRIPTION:Peter Brachi\, the current temporary Chairman of the group invites Members in Dorset (and surrounding areas) to Coombe Keynes for a special meeting\, which will be centred in the Church of the Holy rood.  \n\n\n\nThe day will include a talk about the church and the Trust and a walkabout in the village to learn its history and development and experience it’s character\, focusing on the way local geology has influenced the character of its historic buildings. \n\n\n\nProgramme:11am – Meet at Holy Rood Church for refreshments and discussion  12pm – Talk about the church and the establishment\, achievement and ambitions of the Coombe Keynes Trust  1pm – Buffet lunch 2pm – Introduction to the history of the village and local geology\, followed by a short walk to see the village and look at one or two of the older buildings   \n\n\n\nIt may be that these elements of the day will merge together to some extent; and it is imagined that the meeting will fizzle out naturally during the afternoon. \n\n\n\nIf you would like to attend for the whole day\, please reserve your spot through the SPAB website (see below). Alternatively\, trust members and friends are encouraged to come along at 2pm and enjoy the walk for free.
URL:https://www.coombekeynes.com/event/spab-dorset-regional-group-meeting/
END:VEVENT
BEGIN:VEVENT
DTSTART;TZID=Europe/London:20240524T023000
DTEND;TZID=Europe/London:20240524T210000
DTSTAMP:20260425T032811
CREATED:20240315T114358Z
LAST-MODIFIED:20240408T143607Z
UID:2760-1716517800-1716584400@www.coombekeynes.com
SUMMARY:Purbeck Art Weeks – Private View – 7pm
DESCRIPTION:We’re delighted to be taking part in Purbeck Art Weeks this year. Local artist Kimberley Day has been invited to put on an exhibition in the church. We’re inviting Trust members and friends to come to the church for drinks\, nibbles and a chance to see the exhibition and meet the artist the day before it opens to the general public.   \n\n\n\nThe exhibition will be on display for the following two weeks (25 May – 9 June). \n\n\n\nLearn more about Kim and her work here: https://purbeckartweeksfestival.co.uk/artist/kimberley-day/ \n\n\n\nEntry is free\, but please RSVP to events@coombekeynes.com if you’d like to attend.
URL:https://www.coombekeynes.com/event/purbeck-arts-week-private-view-7pm/
END:VEVENT
BEGIN:VEVENT
DTSTART;TZID=Europe/London:20240525T110000
DTEND;TZID=Europe/London:20240609T170000
DTSTAMP:20260425T032811
CREATED:20240514T065827Z
LAST-MODIFIED:20240514T070053Z
UID:2783-1716634800-1717952400@www.coombekeynes.com
SUMMARY:Purbeck Art Weeks - Free Exhibition
DESCRIPTION:Join us to see a selection of landscape works by Kimberley Day in the beautiful setting of Coombe Keynes Church. \n\n\n\nKim’s work is both a celebration of the Dorset landscape but also an exploration of the human condition – the constant search for meaning\, which seems almost always over the next horizon. Through her work she tries to capture that innate curiosity and desire to make clear what evades us. Her painting is both a literal interpretation of the Dorset landscape but also an expression of feeling through mark making\, composition and colour – as an attempt to capture both our internal and external landscapes. Ever changing\, shifting and surprising us. \n\n\n\nKim will be on hand in the church every day\, working on her paintings. \n\n\n\nTea and coffee will be available.
URL:https://www.coombekeynes.com/event/purbeck-art-weeks-exhibition/
ATTACH;FMTTYPE=image/jpeg:https://www.coombekeynes.com/wp-content/uploads/2024/05/WhatsApp-Image-2024-05-05-at-07.12.39_14a19cc3.jpg
END:VEVENT
BEGIN:VEVENT
DTSTART;TZID=Europe/London:20240623T110000
DTEND;TZID=Europe/London:20240623T110000
DTSTAMP:20260425T032811
CREATED:20240315T114440Z
LAST-MODIFIED:20240315T114757Z
UID:2762-1719140400-1719140400@www.coombekeynes.com
SUMMARY:Coombe Keynes 10k – 10am
DESCRIPTION:It’s back! Our annual 10k race. The usual help with marshalling and making cakes would be greatly appreciated – get in touch at hello@ck10k.com \n\n\n\nWe’ll email with more details nearer the time\, or visit the Events Page of our website for updates. \n\n\n\nAll the best\, \n\n\n\nThe Coombe Keynes Trust
URL:https://www.coombekeynes.com/event/coombe-keynes-10k-10am/
END:VEVENT
BEGIN:VEVENT
DTSTART;TZID=Europe/London:20240817T160000
DTEND;TZID=Europe/London:20240817T190000
DTSTAMP:20260425T032811
CREATED:20240722T202605Z
LAST-MODIFIED:20240722T202606Z
UID:2798-1723910400-1723921200@www.coombekeynes.com
SUMMARY:Summer BBQ
DESCRIPTION:Join us for the Coombe Keynes Annual Summer BBQ on the Green. \n\n\n\n3pm til whenever you fancy (after all you won’t need a taxi!) \n\n\n\nWe are planning an Olympic theme for our food – pick a country and create your cuisine!  \n\n\n\nAny questions\, contact Nicola or email events@coombekeynes.com
URL:https://www.coombekeynes.com/event/summer-bbq-2/
END:VEVENT
BEGIN:VEVENT
DTSTART;TZID=Europe/London:20240928T190000
DTEND;TZID=Europe/London:20240928T233000
DTSTAMP:20260425T032811
CREATED:20240826T182037Z
LAST-MODIFIED:20240925T082110Z
UID:2823-1727550000-1727566200@www.coombekeynes.com
SUMMARY:Harvest Supper and Music Night
DESCRIPTION:Harvest Supper and Music Night at Coombe Keynes Church \n\n\n\n\n\n\n\n\n\nSeptember 28 @ 7:00 pm – 11:30 pm \n\n\n\nJoin us for a baked potato supper and live music from the fabulous Phil Mills and his band Smokestack. \n\n\n\nThere will be a pay bar on the night. \n\n\n\nBook your tickets below!
URL:https://www.coombekeynes.com/event/harvest-supper-and-music-night/
END:VEVENT
BEGIN:VEVENT
DTSTART;TZID=Europe/London:20241101T193000
DTEND;TZID=Europe/London:20241101T233000
DTSTAMP:20260425T032811
CREATED:20240829T082348Z
LAST-MODIFIED:20241007T213919Z
UID:2843-1730489400-1730503800@www.coombekeynes.com
SUMMARY:Purbeck Film Festival: Past Lives
DESCRIPTION:Book on www.purbeckfilm.com \n\n\n\n\nFriday Night is film night! \n\n\n\nWe’re delighted to be taking part in the Purbeck Film Festival again this year.  \n\n\n\nThe film will be ‘Past Lives’ – an American / Korean film highly recommended by our very own Olivia Hetreed! \n\n\n\nCeline Song’s beautifully crafted debut film tells a decades-spanning love story preoccupied with all the fine details of life that decide the destination of one’s adulthood. The things we decide for ourselves and those that are chosen for us\, the people you know now and those you once knew\, the feelings that fade and the ones that remain with achingly sharp clarity. It is not a failed love story\, but it is a lost love story\, as its characters fall victim to the realities of time and circumstance and are left wondering what may have been if either of those things had been different. \n\n\n\n“Past Lives isn’t quite the woozy\, lovelorn drama that its trailers have sold… But it is an eloquent attempt to understand how our memories can end up turning other people into projection screens for our own\, confused desires.” The Independent \n\n\n\n“Past Lives may be a weepie\, but it’s a hyper-sophisticated one.” The FT \n\n\n\n“Song finds the political in the personal and avoids seeming indulgent or niche.” London Evening Standard. \n\n\n\nThere will be a pay bar and we will be serving Korean Rice Bowls on the night.  \n\n\n\nYou can pre-book your meal on the Purbeck Film Festival website. \n\n\n\n \n\n\n\n\n\n\n\n\n\nBook on www.purbeckfilm.com
URL:https://www.coombekeynes.com/event/purbeck-film-festival-past-lives/
END:VEVENT
BEGIN:VEVENT
DTSTART;TZID=Europe/London:20250426T170000
DTEND;TZID=Europe/London:20250426T220000
DTSTAMP:20260425T032811
CREATED:20250211T102228Z
LAST-MODIFIED:20250820T155519Z
UID:3008-1745686800-1745704800@www.coombekeynes.com
SUMMARY:AGM and Pub Night
DESCRIPTION:Join us for the Coombe Keynes Trust Annual General Meeting followed by a BYO Pub Night at The Royal Rood.
URL:https://www.coombekeynes.com/event/agm-and-pub-night/
LOCATION:The Coombe Keynes Church\, Church of the Holy Rood\, Coombe Keynes\, Dorset\, BH20 5PS\, United Kingdom
CATEGORIES:AGM
END:VEVENT
BEGIN:VEVENT
DTSTART;TZID=Europe/London:20250524T000000
DTEND;TZID=Europe/London:20250608T235959
DTSTAMP:20260425T032811
CREATED:20250211T104156Z
LAST-MODIFIED:20250428T195305Z
UID:3011-1748044800-1749427199@www.coombekeynes.com
SUMMARY:Purbeck Art Weeks Exhibition
DESCRIPTION:We’re delighted to welcome four local artists to take over the church as an exhibition space as part of Purbeck Art Weeks. \n\n\n\nThe exhibition will be open in the church everyday from 10am – 4pm and  tea\, coffee & cake will be also be available.  \n\n\n\nOn the evening of Saturday May 24th at 7pm\, we’ll be holding a Private View Event for friends & members of the Coombe Keynes Trust who will be invited to join us to meet the artists and enjoy a canape or two and a glass of fizz. \n\n\n\nFind out more about other exhibitions nearby at purbeckartweeksfestival.co.uk \n\n\n\nThis is a free event.
URL:https://www.coombekeynes.com/event/purbeck-art-weeks-exhibitionwith-private-view-evening-tba/
END:VEVENT
BEGIN:VEVENT
DTSTART;TZID=Europe/London:20250524T190000
DTEND;TZID=Europe/London:20250524T210000
DTSTAMP:20260425T032811
CREATED:20250406T104151Z
LAST-MODIFIED:20250429T114006Z
UID:3039-1748113200-1748120400@www.coombekeynes.com
SUMMARY:Purbeck Art Weeks Private Preview
DESCRIPTION:This year\, the church will be hosting a mixed media exhibition by four local artists as part of Purbeck Art Weeks. \n\n\n\nOn the evening of Saturday May 24th at 7pm\, we’ll be holding a Private View Event for friends & members of the Coombe Keynes Trust. Join us to meet the artists and enjoy a canape or two and a glass of fizz. \n\n\n\nThis is a free event but please RSVP to events@coombekeynes.com. \n\n\n\nFind out more about other exhibitions nearby at purbeckartweeksfestival.co.uk
URL:https://www.coombekeynes.com/event/purbeck-art-weeks-private-preview/
END:VEVENT
BEGIN:VEVENT
DTSTART;TZID=Europe/London:20250622T080000
DTEND;TZID=Europe/London:20250622T140000
DTSTAMP:20260425T032811
CREATED:20250211T104322Z
LAST-MODIFIED:20250429T073755Z
UID:3013-1750579200-1750600800@www.coombekeynes.com
SUMMARY:CK10k Race 10th Anniversary with Village Fete
DESCRIPTION:Join us to celebrate the 10th anniversary of the CK10k. \n\n\n\nThe race kicks off as usual at 10am after which we’ll be holding a village fete in the Vicarage gardens – join us for tea & cake\, tombola\, cider & pasties\, welly wanging\, splat-a-rat and all the fun of the fair! \n\n\n\nSign up to run our 10th Anniversary 10k Race (www.ck10k.com) or just come along to show your support and enjoy a traditional village fete. \n\n\n\n8.30am: Coffee & Breakfast BBQ opens \n\n\n\n10am: Race kicks off \n\n\n\n11am: Fete opens \n\n\n\nPlease be aware if you arrive by car before 11.30am you will be asked to approach via East Lulworth to avoid the race route. Please follow the signs and the marshals’ directions.
URL:https://www.coombekeynes.com/event/10k-race-10th-anniversary-with-village-fete/
END:VEVENT
BEGIN:VEVENT
DTSTART;TZID=Europe/London:20250712T100000
DTEND;TZID=Europe/London:20250712T140000
DTSTAMP:20260425T032811
CREATED:20250211T104413Z
LAST-MODIFIED:20250822T132800Z
UID:3015-1752314400-1752328800@www.coombekeynes.com
SUMMARY:Garden Tours
DESCRIPTION:Actual Gardens TBC
URL:https://www.coombekeynes.com/event/garden-tours/
LOCATION:The Coombe Keynes Church\, Church of the Holy Rood\, Coombe Keynes\, Dorset\, BH20 5PS\, United Kingdom
CATEGORIES:Outside Church
END:VEVENT
BEGIN:VEVENT
DTSTART;TZID=Europe/London:20250824T140000
DTEND;TZID=Europe/London:20250824T170000
DTSTAMP:20260425T032811
CREATED:20250527T103407Z
LAST-MODIFIED:20250822T132153Z
UID:3081-1756044000-1756054800@www.coombekeynes.com
SUMMARY:Summer BBQ
DESCRIPTION:Updates to follow – save the date! \n\n\n\nThis is a free event.
URL:https://www.coombekeynes.com/event/summer-bbq-3/
CATEGORIES:Outside Church
END:VEVENT
BEGIN:VEVENT
DTSTART;TZID=Europe/London:20251004T190000
DTEND;TZID=Europe/London:20251004T233000
DTSTAMP:20260425T032811
CREATED:20250211T105047Z
LAST-MODIFIED:20250927T115954Z
UID:3020-1759604400-1759620600@www.coombekeynes.com
SUMMARY:Harvest Supper - *Postponed to Oct 4th**
DESCRIPTION:This year we’re celebrating the mighty onion! \n\n\n\nThanks to Rod Miller (and his consignment of specially imported Roscoff onions)\, the evening will feature:🧅 An onion-themed quiz🧅 A hearty bowl of French onion soup with Gruyère croutons🍷 A glass of Beaujolais to keep things lively \n\n\n\nTo finish\, we’d love to offer a spread of desserts. If you are able to contribute a pudding – ideally with a French flavour – please let us know in advance so we can plan accordingly. \n\n\n\nNB We’ll be providing a glass of wine to go with the meal\, but you’re invited to BYO drinks to supplement the rest of the evening.  \n\n\n\n \n\n\n\nPS This event was originally planned for Sept 27th but was postponed due to illness. If you’re unable to attend on 27th and have already bought tickets – please let us know and we’ll organise a refund – events@coombekeynes.com
URL:https://www.coombekeynes.com/event/harvest-supper-3/
LOCATION:The Coombe Keynes Church\, Church of the Holy Rood\, Coombe Keynes\, Dorset\, BH20 5PS\, United Kingdom
CATEGORIES:Inside Church
END:VEVENT
BEGIN:VEVENT
DTSTART;TZID=Europe/London:20251031T180000
DTEND;TZID=Europe/London:20251031T210000
DTSTAMP:20260425T032811
CREATED:20250211T105155Z
LAST-MODIFIED:20251009T081100Z
UID:3022-1761933600-1761944400@www.coombekeynes.com
SUMMARY:Purbeck Film Festival - Halloween Screening
DESCRIPTION:Join us for our fourth Purbeck Film Festival screening!We’ve done history\, comedy\, queer romance\, and indie Korean drama – but this year (on Halloween\, no less!) we couldn’t resist something spooky. \n\n\n\nWe’ll be showing The Borderlands (2014)\, a found-footage supernatural horror that’s fast becoming a cult classic. Set in a remote Devon church that looks uncannily like our own Holy Rood\, it’s rated 15 – but don’t worry\, it’s not gory. This is all about atmosphere\, tension\, and proper old-fashioned jump scares. \n\n\n\nTo keep you warm before the chills begin\, we’ll be serving Shepherd’s Pie. If you’d like to lend a hand with the cooking\, we’d love the help – email events@coombekeynes.com \n\n\n\nTickets (and your Shepherd’s Pie supper) are available now on the Purbeck Film Festival website. \n\n\n\n\nhttps://purbeckfilm.com/product/the-borderlands-coombe-keynes-church/
URL:https://www.coombekeynes.com/event/purbeck-film-festivalfilm-2025/
CATEGORIES:Inside Church
END:VEVENT
BEGIN:VEVENT
DTSTART;TZID=Europe/London:20260404T190000
DTEND;TZID=Europe/London:20260404T230000
DTSTAMP:20260425T032811
CREATED:20251103T101058Z
LAST-MODIFIED:20260404T071955Z
UID:3137-1775329200-1775343600@www.coombekeynes.com
SUMMARY:Brakelight: Live Band & Bar
DESCRIPTION:Brakelight are playing in the church on Saturday 4th April. An amazing covers band from Wiltshire\, they play an eclectic mix of songs you’ll know and love. There will also be a bar serving a range of drinks. Doors and bar open at 7 p.m.\, with the band starting around 7:30 p.m. \n\n\n\nYou can buy tickets online now. The church has a limited capacity\, so buy your tickets before they sell out – tickets are not available on the door and sales close at 16:00 on 4th April. Email us for child tickets & we will move Adult tickets to Child tickets: events@coombekeynes.com \n\n\n\nFind out more about Brakelight on their Facebook and Instagram pages: \n\n\n\nhttps://www.facebook.com/OfficialBrakeLightBandPage \n\n\n\nhttps://www.instagram.com/brakelightband
URL:https://www.coombekeynes.com/event/band-night/
END:VEVENT
BEGIN:VEVENT
DTSTART;TZID=Europe/London:20260509T170000
DTEND;TZID=Europe/London:20260509T170000
DTSTAMP:20260425T032811
CREATED:20260221T162750Z
LAST-MODIFIED:20260221T162752Z
UID:3200-1778346000-1778346000@www.coombekeynes.com
SUMMARY:AGM & Pub Night
DESCRIPTION:We invite all Coombe Keynes Trust members to our Annual General Meeting and stay on afterwards for a BYOB Pub Night.
URL:https://www.coombekeynes.com/event/agm-pub-night/
END:VEVENT
BEGIN:VEVENT
DTSTART;TZID=Europe/London:20260530T100000
DTEND;TZID=Europe/London:20260607T160000
DTSTAMP:20260425T032811
CREATED:20260105T164517Z
LAST-MODIFIED:20260105T165403Z
UID:3161-1780135200-1780848000@www.coombekeynes.com
SUMMARY:Spring Exhibition - PAW & DAW
DESCRIPTION:Local artists Kimberly Day\, Alix Harwood\, Sarah Mazdon\, Claire Tozer will be back with a mixed-media display of their artwork in the church.  \n\n\n\nWatch this space for details of our Private View Event. \n\n\n\nThey’ll be exhibiting as part of Purbeck Art Weeks and Dorset Art Weeks.
URL:https://www.coombekeynes.com/event/coombe-keynes-spring-exhibition-paw-daw/
END:VEVENT
BEGIN:VEVENT
DTSTART;TZID=Europe/London:20260614T100000
DTEND;TZID=Europe/London:20260614T140000
DTSTAMP:20260425T032811
CREATED:20260105T164945Z
LAST-MODIFIED:20260105T165301Z
UID:3164-1781431200-1781445600@www.coombekeynes.com
SUMMARY:Coombe Keynes 10k Race
DESCRIPTION:Join us for the annual 10k race through the village and stay for a mini-fete in the Vicarage gardens afterwards. \n\n\n\nEnter now – more info at https://ck10k.com/
URL:https://www.coombekeynes.com/event/coombe-keynes-10k-race-2/
END:VEVENT
END:VCALENDAR