BEGIN:VCALENDAR
VERSION:2.0
PRODID:-//The Coombe Keynes Trust - ECPv6.15.20//NONSGML v1.0//EN
CALSCALE:GREGORIAN
METHOD:PUBLISH
X-ORIGINAL-URL:https://www.coombekeynes.com
X-WR-CALDESC:Events for The Coombe Keynes Trust
REFRESH-INTERVAL;VALUE=DURATION:PT1H
X-Robots-Tag:noindex
X-PUBLISHED-TTL:PT1H
BEGIN:VTIMEZONE
TZID:Europe/London
BEGIN:DAYLIGHT
TZOFFSETFROM:+0000
TZOFFSETTO:+0100
TZNAME:BST
DTSTART:20210328T010000
END:DAYLIGHT
BEGIN:STANDARD
TZOFFSETFROM:+0100
TZOFFSETTO:+0000
TZNAME:GMT
DTSTART:20211031T010000
END:STANDARD
BEGIN:DAYLIGHT
TZOFFSETFROM:+0000
TZOFFSETTO:+0100
TZNAME:BST
DTSTART:20220327T010000
END:DAYLIGHT
BEGIN:STANDARD
TZOFFSETFROM:+0100
TZOFFSETTO:+0000
TZNAME:GMT
DTSTART:20221030T010000
END:STANDARD
BEGIN:DAYLIGHT
TZOFFSETFROM:+0000
TZOFFSETTO:+0100
TZNAME:BST
DTSTART:20230326T010000
END:DAYLIGHT
BEGIN:STANDARD
TZOFFSETFROM:+0100
TZOFFSETTO:+0000
TZNAME:GMT
DTSTART:20231029T010000
END:STANDARD
END:VTIMEZONE
BEGIN:VEVENT
DTSTART;TZID=Europe/London:20220619T110000
DTEND;TZID=Europe/London:20220619T130000
DTSTAMP:20260423T214758
CREATED:20220323T100045Z
LAST-MODIFIED:20230214T155359Z
UID:1072-1655636400-1655643600@www.coombekeynes.com
SUMMARY:Coombe Keynes 10k Race
DESCRIPTION:For more details\, please visit our dedicated website: \nwww.ck10k.com \nVolunteers are invited for a drink after the race. \n 
URL:https://www.coombekeynes.com/event/coombe-keynes-10k/
CATEGORIES:10k Race
END:VEVENT
END:VCALENDAR