BEGIN:VCALENDAR
VERSION:2.0
PRODID:-//The Coombe Keynes Trust - ECPv6.15.20//NONSGML v1.0//EN
CALSCALE:GREGORIAN
METHOD:PUBLISH
X-WR-CALNAME:The Coombe Keynes Trust
X-ORIGINAL-URL:https://www.coombekeynes.com
X-WR-CALDESC:Events for The Coombe Keynes Trust
REFRESH-INTERVAL;VALUE=DURATION:PT1H
X-Robots-Tag:noindex
X-PUBLISHED-TTL:PT1H
BEGIN:VTIMEZONE
TZID:Europe/London
BEGIN:DAYLIGHT
TZOFFSETFROM:+0000
TZOFFSETTO:+0100
TZNAME:BST
DTSTART:20230326T010000
END:DAYLIGHT
BEGIN:STANDARD
TZOFFSETFROM:+0100
TZOFFSETTO:+0000
TZNAME:GMT
DTSTART:20231029T010000
END:STANDARD
BEGIN:DAYLIGHT
TZOFFSETFROM:+0000
TZOFFSETTO:+0100
TZNAME:BST
DTSTART:20240331T010000
END:DAYLIGHT
BEGIN:STANDARD
TZOFFSETFROM:+0100
TZOFFSETTO:+0000
TZNAME:GMT
DTSTART:20241027T010000
END:STANDARD
BEGIN:DAYLIGHT
TZOFFSETFROM:+0000
TZOFFSETTO:+0100
TZNAME:BST
DTSTART:20250330T010000
END:DAYLIGHT
BEGIN:STANDARD
TZOFFSETFROM:+0100
TZOFFSETTO:+0000
TZNAME:GMT
DTSTART:20251026T010000
END:STANDARD
END:VTIMEZONE
BEGIN:VEVENT
DTSTART;TZID=Europe/London:20240623T110000
DTEND;TZID=Europe/London:20240623T110000
DTSTAMP:20260424T203257
CREATED:20240315T114440Z
LAST-MODIFIED:20240315T114757Z
UID:2762-1719140400-1719140400@www.coombekeynes.com
SUMMARY:Coombe Keynes 10k – 10am
DESCRIPTION:It’s back! Our annual 10k race. The usual help with marshalling and making cakes would be greatly appreciated – get in touch at hello@ck10k.com \n\n\n\nWe’ll email with more details nearer the time\, or visit the Events Page of our website for updates. \n\n\n\nAll the best\, \n\n\n\nThe Coombe Keynes Trust
URL:https://www.coombekeynes.com/event/coombe-keynes-10k-10am/
END:VEVENT
END:VCALENDAR